BEGIN:VCALENDAR
VERSION:2.0
PRODID:-//IPCC - ECPv6.15.20//NONSGML v1.0//EN
CALSCALE:GREGORIAN
METHOD:PUBLISH
X-ORIGINAL-URL:https://ipcc.pl
X-WR-CALDESC:Wydarzenia dla IPCC
REFRESH-INTERVAL;VALUE=DURATION:PT1H
X-Robots-Tag:noindex
X-PUBLISHED-TTL:PT1H
BEGIN:VTIMEZONE
TZID:UTC
BEGIN:STANDARD
TZOFFSETFROM:+0000
TZOFFSETTO:+0000
TZNAME:UTC
DTSTART:20100101T000000
END:STANDARD
END:VTIMEZONE
BEGIN:VEVENT
DTSTART;TZID=UTC:20110813T000000
DTEND;TZID=UTC:20250218T235959
DTSTAMP:20260424T132633
CREATED:20110813T155616Z
LAST-MODIFIED:20250218T155702Z
UID:4251-1313193600-1739923199@ipcc.pl
SUMMARY:Visit of Indian Ambassador in Gdansk -25-26 July 2011.
DESCRIPTION: Indian ambassador to Poland Mrs. Monika Kapil Mohta visited Gdansk on 25-26 Aug 2011. During her visit she met with Wojowoda Pomorski and the head of Indo-Polish Cultural Committee Mr. Sunil Ahuja. In the meeting Ambassador discussed about the coopration in the field of Culture and business in Pomorski region and India.
URL:https://ipcc.pl/event/visit-of-indian-ambassador-in-gdansk-25-26-july-2011-2/
END:VEVENT
BEGIN:VEVENT
DTSTART;TZID=UTC:20170210T000000
DTEND;TZID=UTC:20170210T235959
DTSTAMP:20260424T132633
CREATED:20170210T160656Z
LAST-MODIFIED:20250218T134252Z
UID:4075-1486684800-1486771199@ipcc.pl
SUMMARY:HOLI - Indyjskie Święto Kolorów 24 marca 2017 godz. 19:00 Nowohuckie Centrum Kultury al. Jana Pawła II 232 Kraków
DESCRIPTION:Indyjsko-Polskie Stowarzyszenie \nna Rzecz Rozwoju Kultury (IPCC) \noraz Nowohuckie Centrum Kultury \nzapraszają na \nHOLI – Indyjskie Święto Kolorów \n  \n24 marca 2017 godz. 19:00 \nNowohuckie Centrum Kultury \nal. Jana Pawła II 232 \nKraków \n  \nPodczas tegorocznych obchodów Holi na krakowskiej scenie zagoszczą:\n– Indian Dance Group Natarang z Chorzowa\n– Kahani Dance Group ze Śląska\n– Zespół Tańca Bollywood Shakti z Chrzanowa\n– Mohini Indian Dance Group z Warszawy\n– Irene Rajon z Warszawy\n– Debasree Bandyopadhyay z Krakowa\n– Mayura z Wrocławia\n– Chameli Group z Krakowa\n– Natyalaya z Krakowa\n– Zespół Tańca Indyjskiego Moh Lena z Krakowa\noraz\nJOGA Emilia Figurniak z pokazem jogi! \nPonadto:\n– zdobienie ciała henną : Śląskie hennowanie\, Mehendi od Marynki Krakóworaz Mehndi & henna art by Marta\n– stoisko zielonysklep.com oraz kiermasz rzeczy z Nepalu\n– indyjska kuchnia : Restauracja Hot Chili \nPatronat honorowy: Ambasada Indii w Polsce\nPatronat medialny: TVP Kraków\, UJOT FM\, KSAF\nPartnerzy: All In UJ\, Stowarzyszenie Prawy do Lewego \nWstęp: 10 zł \nZapraszamy!
URL:https://ipcc.pl/event/holi-indyjskie-swieto-kolorow-24-marca-2017-godz-1900-nowohuckie-centrum-kultury-al-jana-pawla-ii-232-krakow/
END:VEVENT
BEGIN:VEVENT
DTSTART;TZID=UTC:20170210T000000
DTEND;TZID=UTC:20170210T235959
DTSTAMP:20260424T132633
CREATED:20170210T160819Z
LAST-MODIFIED:20250218T134337Z
UID:4077-1486684800-1486771199@ipcc.pl
SUMMARY:Cabinet approves 'Pradhan Mantri Gramin Digital Saksharta Abhiyan for covering 6 crore rural households
DESCRIPTION:Press Information Bureau\, Government of India\, Cabinet \n08-February-2017 20:10 IST \n  \nThe Union Cabinet chaired by the Prime Minister Shri Narendra Modi has approved 'Pradhan Mantri Gramin Digital Saksharta Abhiyan’ (PMGDISHA) to make 6 crore rural households digitally literate. The outlay for this project is Rs.2\,351.38 crore to usher in digital literacy in rural India by March\,.2019. This is in line with the announcement made by Finance Minister in the Union Budget 2016-17. \nPMGDISHA is expected to be one of the largest digital literacy programmes in the world. Under the scheme\, 25 lakh candidates will be trained in the FY 2016-17; 275 lakh in the FY 2017-18; and 300 lakh in the FY 2018-19. To ensure equitable geographical reach\, each of the 250\,000 Gram Panchayats would be expected to register an average of 200-300 candidates. \nDigitally literate persons would be able to operate computers/digital access devices (like tablets\, smart phones\, etc.)\, send and receive emails\, browse internet\, access Government Services\, search for information\, undertaking cashless transactions\, etc. and hence use IT to actively participate in the process of nation building. \nThe implementation of the Scheme would be carried out under the overall supervision of Ministry of Electronics and IT in active collaboration with States/UTs through their designated State Implementing Agencies\, District e-Governance Society (DeGS)\, etc. \nBackground: \nAs per the 71st NSSO Survey on Education 2014\, only 6% of rural households have a computer. This highlights that more than 15 crore rural households (@ 94% of 16.85 crore households) do not have computers and a significant number of these households are likely to be digitally illiterate. The PMGDISHA being initiated under Digital India Programme would cover 6 crore households in rural areas to make them digitally literate. This would empower the citizens by providing them access to information\, knowledge and skills for operating computers / digital access devices. \nAs the thrust of the Government is on cashless transactions through mobile phones\, the course content would also have emphasis on Digital Wallets\, Mobile Banking\, Unified Payments Interface (UPI)\, Unstructured Supplementary Service Data (USSD) and Aadhaar Enabled Payment System (AEPS)\, etc. \n*****
URL:https://ipcc.pl/event/cabinet-approves-pradhan-mantri-gramin-digital-saksharta-abhiyan-for-covering-6-crore-rural-households/
END:VEVENT
END:VCALENDAR