BEGIN:VCALENDAR
VERSION:2.0
PRODID:-//IPCC - ECPv6.15.20//NONSGML v1.0//EN
CALSCALE:GREGORIAN
METHOD:PUBLISH
X-WR-CALNAME:IPCC
X-ORIGINAL-URL:https://ipcc.pl
X-WR-CALDESC:Wydarzenia dla IPCC
REFRESH-INTERVAL;VALUE=DURATION:PT1H
X-Robots-Tag:noindex
X-PUBLISHED-TTL:PT1H
BEGIN:VTIMEZONE
TZID:UTC
BEGIN:STANDARD
TZOFFSETFROM:+0000
TZOFFSETTO:+0000
TZNAME:UTC
DTSTART:20100101T000000
END:STANDARD
END:VTIMEZONE
BEGIN:VEVENT
DTSTART;TZID=UTC:20110813T000000
DTEND;TZID=UTC:20250218T235959
DTSTAMP:20260424T082956
CREATED:20110813T155616Z
LAST-MODIFIED:20250218T155702Z
UID:4251-1313193600-1739923199@ipcc.pl
SUMMARY:Visit of Indian Ambassador in Gdansk -25-26 July 2011.
DESCRIPTION: Indian ambassador to Poland Mrs. Monika Kapil Mohta visited Gdansk on 25-26 Aug 2011. During her visit she met with Wojowoda Pomorski and the head of Indo-Polish Cultural Committee Mr. Sunil Ahuja. In the meeting Ambassador discussed about the coopration in the field of Culture and business in Pomorski region and India.
URL:https://ipcc.pl/event/visit-of-indian-ambassador-in-gdansk-25-26-july-2011-2/
END:VEVENT
BEGIN:VEVENT
DTSTART;TZID=UTC:20170513T000000
DTEND;TZID=UTC:20170513T235959
DTSTAMP:20260424T082956
CREATED:20170513T160003Z
LAST-MODIFIED:20250218T133549Z
UID:4061-1494633600-1494719999@ipcc.pl
SUMMARY:Tydzień Kina Indyjskiego @KinoArs
DESCRIPTION:? KIEDY: 19-25.05.2017 \n? START PROJEKCJI: 20:00 \n? GDZIE: Kino Aneks\, ul.św Tomasza 11\, 31-018 Kraków \n? CENA: \n15 zł ulgowy\, 20 zł normalny \nkarnet: 70 zł (do kupienia w kasie kina) \nKino indyjskie jest jak masala. Pełne smaków\, odcieni i różnych gatunków. To egzotyczna mieszanka\, która zadowoli każdego. Taki właśnie będzie Tydzień Kina Indyjskiego. Obejrzymy nie tylko największe hinduskie produkcje ostatniego czasu\, ale także popularne komedie\, filmy akcji czy dramaty. Tego nie można przegapić! \nTydzień Kina Indyjskiego\, startujemy codzienne o 20:00: \n19.05 – Hindi Medium \n20.05 – Rangoon \n21.05 – Half Girlfriend \n22.05 – Ae Dil Hai Mushkil \n23.05 – Naam Shabana \n24.05 – Love Aaj Kal \n25.05 – Raees (tylko z angielskimi napisami\, only with english subtitles) 
URL:https://ipcc.pl/event/tydzien-kina-indyjskiego-kinoars/
END:VEVENT
BEGIN:VEVENT
DTSTART;TZID=UTC:20170513T000000
DTEND;TZID=UTC:20170513T235959
DTSTAMP:20260424T082956
CREATED:20170513T160043Z
LAST-MODIFIED:20250218T133744Z
UID:4063-1494633600-1494719999@ipcc.pl
SUMMARY:29 maja - 2 czerwca 2017 - VII Festiwal "Dni Indyjskie" organizowany przez Instytut Orientalistyki UJ.
DESCRIPTION:Z przyjemnością informujemy\, że w dniach 29 maja – 2 czerwca 2017r. odbędzie się VII edycja festiwalu Dni Indyjskie organizowanego przez Koło Naukowe Indologów UJ i Zakład Języków i Kultur Indii i Azji Południowej Instytutu Orientalistyki UJ. \nNaszym celem jest popularyzacja wiedzy o fascynującej kulturze\, która w Polsce ma już wielu miłośników. Liczymy\, że w naszym zróżnicowanym programie każdy znajdzie coś dla siebie. \nZapisy na warsztaty z rezerwacją miejsc: dniiindyjskie2017@gmail.com. \nUWAGA! To robocza wersja programu\, szczegóły podamy niebawem. \nPoniedziałek\, 29 maja: \n13.00 ? inauguracja Dni Indyjskich + wykład\, dr hab. Iwona Milewska\, „Indyjskie opowieści miłosne”\, Kolegium Śląskie\, al. Mickiewicza 3\, sala 326 \n14:00 – wykład\, prof. Marzenna Czerniak-Drożdżowicz\, „Co indyjscy bogowie robią na ziemi?”\, Kolegium Śląskie\, al. Mickiewicza 3\, sala 326 \n16:30 – warsztaty językowe\, mgr Piotr Borek: „Urdu dla początkujących”\, Kolegium Śląskie\, al. Mickiewicza 3\, sala 1 \n17:00 – warsztaty gotowania + indyjska kolacja z Sheuli Bhowal Yummy India\, Krakow (15 miejsc\, obowiązkowa rezerwacja\, 120 zł) \n20:00 – wykład\, mgr Matylda Ciołkosz: „O praktyce jogi i stawianiu granic między światem jednostki a światem społecznym”\, Cudny Józef\, ul. Józefa 8 \nWtorek\, 30 maja: \n14:30 – wykład\, szczegóły wkrótce \n16:00 – warsztaty tańca dla dorosłych: kathak\, Natalia Rutka\, Studio Tańca Sihir Taniec Brzucha\, ul. Bandurskiego 21 (15 miejsc\, obowiązkowa rezerwacja) \n18:00 – spotkanie autorskie\, Paweł Kowalczyk: „Czerwone drogi Auroville. Wolontariat w Indiach i świat tamilskich wiosek”\, Bona – książka i kawa\, ul. Kanonicza 11 \n20:00 – slajdowisko\, Monika Kulczyńska: „Indie – Kraj tysiąca kolorów”\, Bonobo Księgarnia Kawiarnia Podróżnicza\, ul. Mały Rynek 4 \nŚroda\, 31 maja: \n15:00 – wykład\, dr Anna Nitecka\, Oblicza Bogini Matki w Tamilnadu\, Kolegium Śląskie\, al. Mickiewicza 3\, sala 4 \n16:30 – warsztaty językowe\, mgr Ilona Kędzia\, „Tamilski dla początkujących”\, Kolegium Śląskie\, al. Mickiewicza 3\, sala 301 \n18:00 – warsztaty kalaripajattu\, Kalarippayattu Kraków Karolina Szwed\, Kolegium Śląskie\, al. Mickiewicza 3\, sala 301 (15 miejsc\, obowiązkowa rezerwacja) \n20:00 – pokaz filmowy: „Rockstar”\, Kino Paradox na ul. Krupniczej\, ul. Krupnicza 38 (ceny biletów: 10/11/13 zł) – pokaz filmowy sponsorowany przez Bollywood Europa \nCzwartek\, 1 czerwca: \n14:30 – wykład\, mgr Ilona Kędzia: „Sztuka nieumierania”\, Kolegium Śląskie\, al. Mickiewicza 3\, sala 301 \n16:00 – warsztaty tańca dla dzieci (6-12 lat): bhangra\, Natalia Rutka i Adela Petrykowska\, Studio Tańca Sihir Taniec Brzucha\, ul. Bandurskiego 21 (15 miejsc\, obowiązkowa rezerwacja) \n18:00 – warsztaty malowania henną\, Mehndi & henna art by Marta Marta Klejsa\, Śródmiejski Ośrodek Kultury w Krakowie\, ul. Mikołajska 2 (20 miejsc\, obowiązkowa rezerwacja\, 10 zł) \n20:00 – karaoke w hindi\, Alternatywy\, ul. Mały Rynek 4 \nPiątek\, 2 czerwca: \n15:00 – wykład\, prof. Lidia Sudyka & Eleonora Tenerowicz: „Dabbawala – czyli o indyjskim systemie cateringu”\, MEK Muzeum Etnograficzne w Krakowie\, ul. Plac Wolnica 1 \n16:00 – wystawa zdjęć + prelekcja\, Weronika Lelito: „Bodh Gaya”\, Bona – książka i kawa\, ul. Kanonicza 11 \n20:00 – Bollywood Party\, BAL\, ul. Ślusarska 9
URL:https://ipcc.pl/event/29-maja-2-czerwca-2017-vii-festiwal-dni-indyjskie-organizowany-przez-instytut-orientalistyki-uj/
END:VEVENT
END:VCALENDAR