BEGIN:VCALENDAR
VERSION:2.0
PRODID:-//IPCC - ECPv6.15.20//NONSGML v1.0//EN
CALSCALE:GREGORIAN
METHOD:PUBLISH
X-ORIGINAL-URL:https://ipcc.pl
X-WR-CALDESC:Wydarzenia dla IPCC
REFRESH-INTERVAL;VALUE=DURATION:PT1H
X-Robots-Tag:noindex
X-PUBLISHED-TTL:PT1H
BEGIN:VTIMEZONE
TZID:UTC
BEGIN:STANDARD
TZOFFSETFROM:+0000
TZOFFSETTO:+0000
TZNAME:UTC
DTSTART:20100101T000000
END:STANDARD
END:VTIMEZONE
BEGIN:VEVENT
DTSTART;TZID=UTC:20110813T000000
DTEND;TZID=UTC:20250218T235959
DTSTAMP:20260425T001526
CREATED:20110813T155616Z
LAST-MODIFIED:20250218T155702Z
UID:4251-1313193600-1739923199@ipcc.pl
SUMMARY:Visit of Indian Ambassador in Gdansk -25-26 July 2011.
DESCRIPTION: Indian ambassador to Poland Mrs. Monika Kapil Mohta visited Gdansk on 25-26 Aug 2011. During her visit she met with Wojowoda Pomorski and the head of Indo-Polish Cultural Committee Mr. Sunil Ahuja. In the meeting Ambassador discussed about the coopration in the field of Culture and business in Pomorski region and India.
URL:https://ipcc.pl/event/visit-of-indian-ambassador-in-gdansk-25-26-july-2011-2/
END:VEVENT
BEGIN:VEVENT
DTSTART;TZID=UTC:20160720T000000
DTEND;TZID=UTC:20160720T235959
DTSTAMP:20260425T001526
CREATED:20160720T161837Z
LAST-MODIFIED:20250218T144840Z
UID:4107-1468972800-1469059199@ipcc.pl
SUMMARY:Kursy wystartowały od 1 października 2016! - Zapraszamy na kursy języka hindi w Krakowie!
DESCRIPTION:Hindi learning courses jointly organized by IPCC\, ICCR and cultural center started from 1st October in Krakow. \n  \n\n\n\n  \nIndyjsko – Polskie Stowarzyszenie na Rzecz Kultury (IPCC)\, Dom Kultury „Podgórze”\, Ambasada Indii i ICCR (Indian Council for Cultural Relations) zaprasza na roczne\, darmowe (podstawowe i zaawansowane) kursy języka Hindi\, które rozpoczną się 1-go października 2016 w Krakowie. \nKursy są wolne od opłat i każdy\, kto jest zainteresowany nauką Hindi może wziąć w nich udział. Ilość miejsc jest ograniczona.\nProszę zapisywać się w Domu Kultury „Podgórze”\nul.Sokolska 13\, 30-510 Kraków\ntel. 126563670\, 126561890\, 126564441\n\n\n\nIndo – Polish Cultural Committee (IPCC)\, Dom Kultury ?Podgórze”\, Ambassada Indii & ICCR (Indian Council for Cultural Relations) invite you to join one year free (BASIC AND ADVANCE) Hindi language courses starting from 1st October 2016 in Krakow.\nCourses are free of charge. People interested in learning Hindi can join. Seats are limited.\nPlease register at Dom Kultury ?Podgórze?\nul. Sokolska 13\, 30-510 Kraków\nTel. 126563670\, 126561890\, 126564441
URL:https://ipcc.pl/event/kursy-wystartowaly-od-1-pazdziernika-2016-zapraszamy-na-kursy-jezyka-hindi-w-krakowie/
END:VEVENT
BEGIN:VEVENT
DTSTART;TZID=UTC:20160722T000000
DTEND;TZID=UTC:20160722T235959
DTSTAMP:20260425T001526
CREATED:20160722T161803Z
LAST-MODIFIED:20250218T144313Z
UID:4105-1469145600-1469231999@ipcc.pl
SUMMARY:Indologia UJ - Trwa rekrutacja na studia I i II stopnia
DESCRIPTION:  \n  \n  \n\n\n \nUniwersytet Jagieloński – Indologia – Rekrutacja na studia I i II stopnia  \n\nTermin: 09.07.2016 – 15.09.2016 \n\n\n\nTrwa rekrutacja na studia I i II stopnia. \nCo to jest indologia? \nIndologia to nauka rozumienia Indii. Studiując indologię w Instytucie Orientalistyki UJ\, nauczysz się indyjskich języków\, współczesnych i dawnych\, które są kluczem do poznania indyjskiej kultury i cywilizacji. Dowiesz się\, dlaczego poznanie sanskrytu i wed zmieniło Europę. Odkryjesz cud\, jakim były i są Indie. \nKto może studiować indologię? \nZapraszamy wszystkich\, którzy kochają języki\, są ciekawi świata i mają w sobie żyłkę odkrywcy. Jeśli kochasz starożytne cywilizacje\, światową literaturę\, filmy Bollywood\, sztukę\, muzykę\, taniec Indii\, interesujesz się współczesną Azją Południową ? te studia są dla Ciebie!\n \nCzego można się nauczyć na indologii? \nStudiując indologię opanujesz kilka języków indyjskich (hindi\, urdu\, tamilski\, sanskryt) oraz zdobędziesz specjalistyczną wiedzę o Indiach dawnych i współczesnych. Będą to tak zwane kompetencje twarde\, których posiadanie potwierdzi dyplom filologa. \nPodczas stypendium w Indiach nauczysz się z kolei tego\, jak targować ceny na bazarze\, jak pokonać indyjską biurokrację\, jak zachować życie przy przechodzeniu na drugą stronę ulicy ? zdobędziesz zatem nieocenioną sumę kompetencji miękkich: komunikatywność\, umiejętność zarządzania czasem\, odporność na stres. \nCo nas wyróżnia? \nNie zamykamy się na przeszłość Indii\, jesteśmy otwarci na współczesność. Nasz dyplom filologa jest dla pracodawcy gwarancją znajomości języka oraz ? co równie ważne ? nabytych na naszych studiach umiejętności komunikacji międzykulturowej. \nZdobycie takich kompetencji gwarantuje nasza świetnie przygotowana i wykształcona kadra\, składająca się z uznanych w kraju i zagranicą specjalistów. Lektoraty prowadzą u nas native speakerzy\, odwiedzają nas goście zagraniczni. ?Współpracujemy z uniwersytetami w kraju i zagranicą. Jeśli zostaniesz naszym studentem\, wyjedziesz na obóz naukowy\, na którym poznasz studentów z innych ośrodków w Polsce. Będziesz miał szansę wyjazdu na stypendium Erasmus+ do wielu europejskich krajów\, do Włoch\, Austrii\, Czech\, Niemiec\, Norwegii. Rokrocznie oferujemy stypendia do Indii. \n  \n\n\nRekrutacja na nasze studia I stopnia\nRekrutacja na nasze studia II stopnia (zwróćcie uwagę na przyjazne zasady kwalifikacji)
URL:https://ipcc.pl/event/indologia-uj-trwa-rekrutacja-na-studia-i-i-ii-stopnia/
END:VEVENT
BEGIN:VEVENT
DTSTART;TZID=UTC:20160731T000000
DTEND;TZID=UTC:20160731T235959
DTSTAMP:20260425T001526
CREATED:20160731T161727Z
LAST-MODIFIED:20250218T144233Z
UID:4103-1469923200-1470009599@ipcc.pl
SUMMARY:Indian Youth Gather at WYD
DESCRIPTION:2016-07-29A A A \nOn Thursday\, July 28th\, the Indian Delegation performed at St. Mary Magdalene?s square in Krakow?s Old Town. The performance featured traditional Indian dances to showcase the universality of Christianity through the youth?s energy. \n  \nIt was blissful to see members from the Indian Delegation at World Youth Day 2016 representing DoCat present a dance performance yesterday evening during the Youth Festival Program at St. Mary Magdalene Square\, Krakow. \n  \nThe performance centered on a regional song depicting unity in the midst of diversity\, performed by young people from various parts of India. Various regional dance steps were included into a fusion style that represented the diverse cultural heritage of the country. \n  \nThe audience seemed enthusiastic and overwhelmed to have an Indian performance before them and enjoyed every bit of the performance\, dancing and clapping along with the performers. The performance strongly reflected Christian unity and the communion of people of God in joyous celebration of the mercy of the Lord\, especially in this extraordinary year of mercy. \n  \nJoseph K. Anthony
URL:https://ipcc.pl/event/indian-youth-gather-at-wyd/
END:VEVENT
END:VCALENDAR