BEGIN:VCALENDAR
VERSION:2.0
PRODID:-//IPCC - ECPv6.15.20//NONSGML v1.0//EN
CALSCALE:GREGORIAN
METHOD:PUBLISH
X-WR-CALNAME:IPCC
X-ORIGINAL-URL:https://ipcc.pl
X-WR-CALDESC:Wydarzenia dla IPCC
REFRESH-INTERVAL;VALUE=DURATION:PT1H
X-Robots-Tag:noindex
X-PUBLISHED-TTL:PT1H
BEGIN:VTIMEZONE
TZID:UTC
BEGIN:STANDARD
TZOFFSETFROM:+0000
TZOFFSETTO:+0000
TZNAME:UTC
DTSTART:20100101T000000
END:STANDARD
END:VTIMEZONE
BEGIN:VEVENT
DTSTART;TZID=UTC:20110813T000000
DTEND;TZID=UTC:20250218T235959
DTSTAMP:20260424T145345
CREATED:20110813T155616Z
LAST-MODIFIED:20250218T155702Z
UID:4251-1313193600-1739923199@ipcc.pl
SUMMARY:Visit of Indian Ambassador in Gdansk -25-26 July 2011.
DESCRIPTION: Indian ambassador to Poland Mrs. Monika Kapil Mohta visited Gdansk on 25-26 Aug 2011. During her visit she met with Wojowoda Pomorski and the head of Indo-Polish Cultural Committee Mr. Sunil Ahuja. In the meeting Ambassador discussed about the coopration in the field of Culture and business in Pomorski region and India.
URL:https://ipcc.pl/event/visit-of-indian-ambassador-in-gdansk-25-26-july-2011-2/
END:VEVENT
BEGIN:VEVENT
DTSTART;TZID=UTC:20161223T000000
DTEND;TZID=UTC:20161223T235959
DTSTAMP:20260424T145345
CREATED:20161223T161225Z
LAST-MODIFIED:20250218T141901Z
UID:4087-1482451200-1482537599@ipcc.pl
SUMMARY:India remains fastest-growing large economy\, beating China: EIU
DESCRIPTION:By ANI | Dec 16\, 2016\, 09.52 AM IST \nNEW DELHI: The Economist Intelligence Unit (EIU)\, the research and analysis division of The Economist Group in its global economic outlook in December said that India continues to be the fastest-growing large economy beating China. \n  \nTweeting the highlights of the session\, Director of Global Forecasting at the EIU Joseph Lake said\, „India remains fastest-growing large economy\, beating China. Iran looks good. \nStrong showing from Africa: Tanzania\, Ghana\, Kenya\, Rwanda.” \nThe group however slashed India’s economic growth forecast from 7.3 percent to 6.5 percent in 2016-17 because of cash shortage from „botched implementation of demonetisation”. \nIt however\, said that India remains fastest growing large economy in world as growth will accelerate after liquidity shortage eases and public investment ramps up.
URL:https://ipcc.pl/event/india-remains-fastest-growing-large-economy-beating-china-eiu/
END:VEVENT
BEGIN:VEVENT
DTSTART;TZID=UTC:20161224T000000
DTEND;TZID=UTC:20161224T235959
DTSTAMP:20260424T145345
CREATED:20161224T161111Z
LAST-MODIFIED:20250218T141114Z
UID:4085-1482537600-1482623999@ipcc.pl
SUMMARY:Christmas Greetings and Happy New Year 2017
DESCRIPTION:  \n\nMERRY CHRISTMAS AND HAPPY NEW YEAR
URL:https://ipcc.pl/event/christmas-greetings-and-happy-new-year-2017/
END:VEVENT
END:VCALENDAR